BEGIN:VCALENDAR
VERSION:2.0
PRODID:-//manvirai - ECPv6.15.12.2//NONSGML v1.0//EN
CALSCALE:GREGORIAN
METHOD:PUBLISH
X-WR-CALNAME:manvirai
X-ORIGINAL-URL:https://manavirai.com
X-WR-CALDESC:Events for manvirai
REFRESH-INTERVAL;VALUE=DURATION:PT1H
X-Robots-Tag:noindex
X-PUBLISHED-TTL:PT1H
BEGIN:VTIMEZONE
TZID:UTC
BEGIN:STANDARD
TZOFFSETFROM:+0000
TZOFFSETTO:+0000
TZNAME:UTC
DTSTART:20230101T000000
END:STANDARD
END:VTIMEZONE
BEGIN:VEVENT
DTSTART;VALUE=DATE:20241216
DTEND;VALUE=DATE:20241217
DTSTAMP:20260423T154156
CREATED:20250117T094208Z
LAST-MODIFIED:20250117T103505Z
UID:6590-1734307200-1734393599@manavirai.com
SUMMARY:Animal Rescue Initiative – A Step Towards Compassion
DESCRIPTION:Date: 16 December 2024 \nThis empowering reel captures the recent Animal Rescue Initiative led by Manavi Rai and her team. Their mission was to rescue and rehabilitate animals in need\, showcasing an unwavering commitment to the cause. \nThe event focused on raising awareness about the importance of rescuing\, rehabilitating\, and providing long-term care for abandoned and injured animals. Community involvement played a key role in making the mission a success. \n🎥 Watch the reel to see our efforts in action: \n\n\n Watch on Instagram
URL:https://manavirai.com/event/animal-rescue-initiative-a-step-towards-compassion/
END:VEVENT
BEGIN:VEVENT
DTSTART;VALUE=DATE:20241129
DTEND;VALUE=DATE:20241130
DTSTAMP:20260423T154156
CREATED:20250117T095353Z
LAST-MODIFIED:20250117T103321Z
UID:6599-1732838400-1732924799@manavirai.com
SUMMARY:Heartwarming Rescue: Making a Difference Together
DESCRIPTION:Date: 29 November 2024 \nThis inspiring reel captures the recent rescue operation led by Manavi Rai and her team\, dedicated to saving and rehabilitating stray and injured animals. The mission emphasized the importance of animal welfare and the need for community participation in these efforts. \nThe event included hands-on rescue work\, medical care\, and finding shelter for animals in distress. It highlighted the positive impact of compassionate action and collaboration between volunteers and the community. \nWatch the reel to experience the moments of hope\, care\, and love that defined the day! \n🎥 Watch the reel to see the heartwarming rescue efforts in action: \n\n\n Watch on Instagram
URL:https://manavirai.com/event/heartwarming-rescue-making-a-difference-together/
END:VEVENT
BEGIN:VEVENT
DTSTART;VALUE=DATE:20241107
DTEND;VALUE=DATE:20241108
DTSTAMP:20260423T154156
CREATED:20250117T100146Z
LAST-MODIFIED:20250117T103618Z
UID:6608-1730937600-1731023999@manavirai.com
SUMMARY:A Heartfelt Rescue Mission
DESCRIPTION:Date: 7 November 2024 \nThis inspiring reel captures a heartwarming rescue mission led by Manavi Rai and her team\, dedicated to saving and rehabilitating animals in need. The event highlighted the importance of offering care to abandoned and injured animals\, with a focus on community involvement. \nThe day was filled with acts of kindness\, from on-the-ground rescues to educating the public on the significance of animal welfare and rescue operations. \nWatch the reel to witness the compassion and action behind the rescue! \n🎥 Watch the reel to see the heartwarming rescue efforts in action: \n\n\n Watch on Instagram
URL:https://manavirai.com/event/compassion-in-action-a-heartfelt-rescue-mission/
END:VEVENT
BEGIN:VEVENT
DTSTART;VALUE=DATE:20241023
DTEND;VALUE=DATE:20241024
DTSTAMP:20260423T154156
CREATED:20250117T101010Z
LAST-MODIFIED:20250117T101104Z
UID:6615-1729641600-1729727999@manavirai.com
SUMMARY:A Life-Saving Mission
DESCRIPTION:Date: 23 October 2024 \nThis powerful reel showcases the dedication and commitment of Manavi Rai and her team as they rescued animals in need. With a focus on providing essential medical care and finding safe shelters\, this event embodies the spirit of compassion. \nThe event brought together community members\, highlighting the importance of joint efforts in animal welfare and rescue operations. \nWitness the emotional journey of rescue and recovery in the reel. \n🎥 Watch the reel to see the compassionate care in action:\n\n\n Watch on Instagram
URL:https://manavirai.com/event/a-life-saving-mission/
END:VEVENT
BEGIN:VEVENT
DTSTART;VALUE=DATE:20240810
DTEND;VALUE=DATE:20240811
DTSTAMP:20260423T154156
CREATED:20250117T101355Z
LAST-MODIFIED:20250117T101837Z
UID:6621-1723248000-1723334399@manavirai.com
SUMMARY:Inspiring Rescue Efforts: A Day of Compassion
DESCRIPTION:Date: 10 August 2024 \nThis heartwarming reel captures the incredible work of Manavi Rai and her team as they conduct life-saving animal rescues. The focus of this event was to provide medical care\, shelter\, and attention to injured animals while educating the community about the importance of rescue and welfare efforts. \nThe event was filled with impactful moments of compassion and hope\, with volunteers working together to save animals and raise awareness. \n🎥 Watch the reel to see the dedicated efforts in action:\n\n\n Watch on Instagram
URL:https://manavirai.com/event/inspiring-rescue-efforts-a-day-of-compassion/
END:VEVENT
BEGIN:VEVENT
DTSTART;VALUE=DATE:20240509
DTEND;VALUE=DATE:20240510
DTSTAMP:20260423T154156
CREATED:20250117T102119Z
LAST-MODIFIED:20250117T102309Z
UID:6628-1715212800-1715299199@manavirai.com
SUMMARY:Saving Lives with Compassion: A Day of Animal Rescue
DESCRIPTION:Date: 9 May 2024 \nhis impactful Instagram reel showcases the extraordinary rescue efforts of Manavi Rai and her dedicated team as they work to save abandoned and injured animals. The event provided essential care\, shelter\, and medical attention to the animals\, highlighting the importance of community support in animal welfare. \nWatch the moments of compassion and hope unfold as the team works tirelessly to give these animals a second chance at life. \n🎥 Watch the reel to see the dedication and care in action:\n\n\n Watch on Instagram
URL:https://manavirai.com/event/saving-lives-with-compassion-a-day-of-animal-rescue/
END:VEVENT
BEGIN:VEVENT
DTSTART;VALUE=DATE:20240416
DTEND;VALUE=DATE:20240417
DTSTAMP:20260423T154156
CREATED:20200529T091446Z
LAST-MODIFIED:20250117T103831Z
UID:361-1713225600-1713311999@manavirai.com
SUMMARY:Animal Rescue & Awareness Drive
DESCRIPTION:Date: 16 April 2024 \nManavi Rai and her dedicated team recently conducted a heartfelt Animal Rescue & Awareness Drive\, showcasing their commitment to saving lives and spreading compassion. The event highlighted the urgency of providing care to abandoned and injured animals while encouraging community participation in creating a safer environment for our furry friends. \nFrom on-ground rescues to educating attendees about animal welfare\, the drive left an unforgettable impact. Watch our efforts in action in this Instagram Reel\, capturing moments of love\, care\, and hope. \nTogether\, let’s continue to make a difference! 🐾 \n\n\n Watch on Instagram
URL:https://manavirai.com/event/presentation/
END:VEVENT
BEGIN:VEVENT
DTSTART;VALUE=DATE:20240329
DTEND;VALUE=DATE:20240330
DTSTAMP:20260423T154156
CREATED:20250117T102919Z
LAST-MODIFIED:20250117T103211Z
UID:6633-1711670400-1711756799@manavirai.com
SUMMARY:Rescue Mission: Spreading Compassion and Hope
DESCRIPTION:Date: 29 March 2024 \nThis incredible Instagram reel captures the impactful rescue mission led by Manavi Rai and her dedicated team. With a focus on saving injured and abandoned animals\, this event showcased the collective effort to provide immediate care\, shelter\, and medical attention\, giving these animals a chance at a better life. \nThrough love\, dedication\, and community support\, the team made a lasting impact on the lives of these voiceless beings. Watch the reel to see the compassion and hope shared during the rescue mission. \n🎥 Watch the reel to experience the journey of hope and care:\n\n\n Watch on Instagram
URL:https://manavirai.com/event/rescue-mission-spreading-compassion-and-hope/
END:VEVENT
BEGIN:VEVENT
DTSTART;VALUE=DATE:20240208
DTEND;VALUE=DATE:20240209
DTSTAMP:20260423T154156
CREATED:20200914T084650Z
LAST-MODIFIED:20250117T103940Z
UID:3102-1707350400-1707436799@manavirai.com
SUMMARY:Saving Lives\, One Paw at a Time
DESCRIPTION:Date: 8 February 2021 \nThis uplifting Instagram post showcases our team’s dedication to rescuing stray animals in urgent need. The event highlighted our tireless efforts to not only save lives but also offer rehabilitation and long-term care for these animals. \nOur team came together to provide critical medical attention\, foster a safe space\, and ensure a brighter future for those we rescued. We are proud to continue working toward a compassionate world where every animal receives the love they deserve. \n🎥 Watch the reel to see our incredible rescue mission in action:\n\n\n Watch on Instagram
URL:https://manavirai.com/event/live-testimonials/
END:VEVENT
BEGIN:VEVENT
DTSTART;VALUE=DATE:20240201
DTEND;VALUE=DATE:20240202
DTSTAMP:20260423T154156
CREATED:20200529T091400Z
LAST-MODIFIED:20250117T104045Z
UID:358-1706745600-1706831999@manavirai.com
SUMMARY:Compassion in Action – Rescuing Lives Together
DESCRIPTION:Date: 1 February 2024 \nThis inspiring reel captures a heartwarming rescue mission led by our team. Focused on saving and rehabilitating stray animals in dire need\, the event showcased our unwavering commitment to making a difference in the lives of voiceless beings. \nThe day was filled with moments of love\, care\, and collaboration\, emphasizing the importance of community involvement in animal welfare. Our volunteers worked tirelessly to rescue\, provide medical aid\, and find shelter for the animals. \n🎥 Watch the reel to experience the dedication and compassion in action: \n\n\n Watch on Instagram
URL:https://manavirai.com/event/funds-research/
CATEGORIES:Donations
END:VEVENT
END:VCALENDAR